BEGIN:VCALENDAR
VERSION:2.0
PRODID:-//Sams Creek Cellars - ECPv6.15.12.2//NONSGML v1.0//EN
CALSCALE:GREGORIAN
METHOD:PUBLISH
X-WR-CALNAME:Sams Creek Cellars
X-ORIGINAL-URL:https://samscreekcellars.com
X-WR-CALDESC:Events for Sams Creek Cellars
REFRESH-INTERVAL;VALUE=DURATION:PT1H
X-Robots-Tag:noindex
X-PUBLISHED-TTL:PT1H
BEGIN:VTIMEZONE
TZID:America/Los_Angeles
BEGIN:DAYLIGHT
TZOFFSETFROM:-0800
TZOFFSETTO:-0700
TZNAME:PDT
DTSTART:20250309T100000
END:DAYLIGHT
BEGIN:STANDARD
TZOFFSETFROM:-0700
TZOFFSETTO:-0800
TZNAME:PST
DTSTART:20251102T090000
END:STANDARD
BEGIN:DAYLIGHT
TZOFFSETFROM:-0800
TZOFFSETTO:-0700
TZNAME:PDT
DTSTART:20260308T100000
END:DAYLIGHT
BEGIN:STANDARD
TZOFFSETFROM:-0700
TZOFFSETTO:-0800
TZNAME:PST
DTSTART:20261101T090000
END:STANDARD
BEGIN:DAYLIGHT
TZOFFSETFROM:-0800
TZOFFSETTO:-0700
TZNAME:PDT
DTSTART:20270314T100000
END:DAYLIGHT
BEGIN:STANDARD
TZOFFSETFROM:-0700
TZOFFSETTO:-0800
TZNAME:PST
DTSTART:20271107T090000
END:STANDARD
END:VTIMEZONE
BEGIN:VEVENT
DTSTART;TZID=America/Los_Angeles:20260514T140000
DTEND;TZID=America/Los_Angeles:20260514T160000
DTSTAMP:20260420T211007
CREATED:20260131T192501Z
LAST-MODIFIED:20260419T195203Z
UID:1033-1778767200-1778774400@samscreekcellars.com
SUMMARY:Knit\, Purl\, Swirl
DESCRIPTION:Calling all knitters and crocheters! \nKnit\, Purl\, Swirl is a cozy gathering for anyone who loves knitting or crocheting and a good glass of wine. This is a social club style event: no classes\, no agenda—just a few peaceful hours to work on your project\, meet fellow yarn lovers\, and enjoy wine in a relaxed tasting room setting. Come solo or bring a friend and settle in. \n🧶 All skill levels welcome\n🍷 Wine available for purchase\n🕯️ Calm\, creative\, and community-focused \nThis will continue the second Thursday every month!
URL:https://samscreekcellars.com/event/knit-pearl-swirl-2/
LOCATION:Sams Creek Cellars\, 39 Sams Creek Rd\, Gold Hill\, OR\, 97525\, United States
CATEGORIES:Happenings
ATTACH;FMTTYPE=image/jpeg:https://samscreekcellars.com/wp-content/uploads/2026/01/IMG_7996-scaled.jpg
END:VEVENT
BEGIN:VEVENT
DTSTART;TZID=America/Los_Angeles:20260521T180000
DTEND;TZID=America/Los_Angeles:20260521T200000
DTSTAMP:20260420T211007
CREATED:20250416T162716Z
LAST-MODIFIED:20260419T201711Z
UID:903-1779386400-1779393600@samscreekcellars.com
SUMMARY:Reading Between the Wines: Reading and Wine Tasting in Our Rogue Valley Tasting Room
DESCRIPTION:Are you looking for an hour or two to escape\, get some peace and quiet\, and enjoy a good book?  Join us from 6:00pm – 8:00pm for wine tasting and a quiet hour of reading followed by a social hour or continued reading happening at our tasting room.  This will happen the third Thursday of every month. \nBringing your own snacks or dinner is encouraged\, but we will have some small bites available for purchase.  While we are a family friendly winery\, we do ask that you leave your littles at home during this time as we work to provide a quiet and relaxing environment for everyone.
URL:https://samscreekcellars.com/event/reading-between-the-wines-2/
LOCATION:Sams Creek Cellars\, 39 Sams Creek Rd\, Gold Hill\, OR\, 97525\, United States
CATEGORIES:Happenings
ATTACH;FMTTYPE=image/png:https://samscreekcellars.com/wp-content/uploads/2025/04/Reading-BTW.png
END:VEVENT
BEGIN:VEVENT
DTSTART;TZID=America/Los_Angeles:20260618T180000
DTEND;TZID=America/Los_Angeles:20260618T200000
DTSTAMP:20260420T211007
CREATED:20240530T193411Z
LAST-MODIFIED:20260419T201832Z
UID:785-1781805600-1781812800@samscreekcellars.com
SUMMARY:Reading Between the Wines: Reading and Wine Tasting at Our Rogue Valley Tasting Room
DESCRIPTION:Are you looking for an hour or two to escape\, get some peace and quiet\, and enjoy a good book?  Join us from 6:00pm – 8:00pm for wine tasting and a quiet hour of reading followed by a social hour or continued reading happening at our tasting room.  This will happen the third Thursday of every month. \nBringing your own snacks or dinner is encouraged\, but we will have some small bites available for purchase.  While we are a family friendly winery\, we do ask that you leave your littles at home during this time as we work to provide a quiet and relaxing environment for everyone.
URL:https://samscreekcellars.com/event/reading-between-the-wines/
LOCATION:Sams Creek Cellars\, 39 Sams Creek Rd\, Gold Hill\, OR\, 97525\, United States
CATEGORIES:Happenings
ATTACH;FMTTYPE=image/png:https://samscreekcellars.com/wp-content/uploads/2025/04/Reading-BTW.png
END:VEVENT
BEGIN:VEVENT
DTSTART;TZID=America/Los_Angeles:20260703T120000
DTEND;TZID=America/Los_Angeles:20260703T170000
DTSTAMP:20260420T211007
CREATED:20240524T221838Z
LAST-MODIFIED:20260419T195315Z
UID:775-1783080000-1783098000@samscreekcellars.com
SUMMARY:Wine Club Pickup Weekend
DESCRIPTION:Wine Club members stop by to pick up your wine club release.  If your not able to make it this weekend\, your release will be available the following weekend as well.  Please contact us to make other arrangements if you are unable to pick up on either weekend.
URL:https://samscreekcellars.com/event/wine-club-pickup-weekend-2/
LOCATION:Sams Creek Cellars\, 39 Sams Creek Rd\, Gold Hill\, OR\, 97525\, United States
CATEGORIES:Happenings
ATTACH;FMTTYPE=image/png:https://samscreekcellars.com/wp-content/uploads/2024/05/Wine-Club-Pick-up.png
END:VEVENT
BEGIN:VEVENT
DTSTART;TZID=America/Los_Angeles:20260704T120000
DTEND;TZID=America/Los_Angeles:20260704T170000
DTSTAMP:20260420T211007
CREATED:20240524T221657Z
LAST-MODIFIED:20260419T195614Z
UID:772-1783166400-1783184400@samscreekcellars.com
SUMMARY:Wine Club Pickup Weekend
DESCRIPTION:Wine Club members stop by to pick up your wine club release.  If your not able to make it this weekend\, your release will be available the following weekend as well.  Please contact us to make other arrangements if you are unable to pick up on either weekend.
URL:https://samscreekcellars.com/event/wine-club-pickup-weekend/
LOCATION:Sams Creek Cellars\, 39 Sams Creek Rd\, Gold Hill\, OR\, 97525\, United States
CATEGORIES:Happenings
ATTACH;FMTTYPE=image/png:https://samscreekcellars.com/wp-content/uploads/2024/05/Wine-Club-Pick-up.png
END:VEVENT
END:VCALENDAR