BEGIN:VCALENDAR
VERSION:2.0
PRODID:-//Sams Creek Cellars - ECPv6.15.12.2//NONSGML v1.0//EN
CALSCALE:GREGORIAN
METHOD:PUBLISH
X-WR-CALNAME:Sams Creek Cellars
X-ORIGINAL-URL:https://samscreekcellars.com
X-WR-CALDESC:Events for Sams Creek Cellars
REFRESH-INTERVAL;VALUE=DURATION:PT1H
X-Robots-Tag:noindex
X-PUBLISHED-TTL:PT1H
BEGIN:VTIMEZONE
TZID:America/Los_Angeles
BEGIN:DAYLIGHT
TZOFFSETFROM:-0800
TZOFFSETTO:-0700
TZNAME:PDT
DTSTART:20250309T100000
END:DAYLIGHT
BEGIN:STANDARD
TZOFFSETFROM:-0700
TZOFFSETTO:-0800
TZNAME:PST
DTSTART:20251102T090000
END:STANDARD
BEGIN:DAYLIGHT
TZOFFSETFROM:-0800
TZOFFSETTO:-0700
TZNAME:PDT
DTSTART:20260308T100000
END:DAYLIGHT
BEGIN:STANDARD
TZOFFSETFROM:-0700
TZOFFSETTO:-0800
TZNAME:PST
DTSTART:20261101T090000
END:STANDARD
BEGIN:DAYLIGHT
TZOFFSETFROM:-0800
TZOFFSETTO:-0700
TZNAME:PDT
DTSTART:20270314T100000
END:DAYLIGHT
BEGIN:STANDARD
TZOFFSETFROM:-0700
TZOFFSETTO:-0800
TZNAME:PST
DTSTART:20271107T090000
END:STANDARD
END:VTIMEZONE
BEGIN:VEVENT
DTSTART;TZID=America/Los_Angeles:20260308T140000
DTEND;TZID=America/Los_Angeles:20260308T160000
DTSTAMP:20260420T011940
CREATED:20260130T215632Z
LAST-MODIFIED:20260228T234718Z
UID:1029-1772978400-1772985600@samscreekcellars.com
SUMMARY:Live Music Sunday- Hopstone
DESCRIPTION:Join us on Sunday\, March 8th\, from 2:00–4:00 PM for an afternoon of wine and live music! \nWe’re excited to welcome Southern Oregon duo HopStone back for another fantastic performance. Sit back\, relax\, and enjoy their lively sound while we pour our award-winning wines to perfectly complement the experience. \nDon’t let this afternoon pass you by! Gather a few friends\, sip something delicious\, and enjoy great music with us. Seating is first come\, first served—we can’t wait to see you there!
URL:https://samscreekcellars.com/event/live-music-sunday-hopstone/
LOCATION:Sams Creek Cellars\, 39 Sams Creek Rd\, Gold Hill\, OR\, 97525\, United States
CATEGORIES:Happenings
ATTACH;FMTTYPE=image/jpeg:https://samscreekcellars.com/wp-content/uploads/2025/10/IMG_20781.jpeg
END:VEVENT
END:VCALENDAR