BEGIN:VCALENDAR
VERSION:2.0
PRODID:-//Sams Creek Cellars - ECPv6.15.12.2//NONSGML v1.0//EN
CALSCALE:GREGORIAN
METHOD:PUBLISH
X-WR-CALNAME:Sams Creek Cellars
X-ORIGINAL-URL:https://samscreekcellars.com
X-WR-CALDESC:Events for Sams Creek Cellars
REFRESH-INTERVAL;VALUE=DURATION:PT1H
X-Robots-Tag:noindex
X-PUBLISHED-TTL:PT1H
BEGIN:VTIMEZONE
TZID:America/Los_Angeles
BEGIN:DAYLIGHT
TZOFFSETFROM:-0800
TZOFFSETTO:-0700
TZNAME:PDT
DTSTART:20250309T100000
END:DAYLIGHT
BEGIN:STANDARD
TZOFFSETFROM:-0700
TZOFFSETTO:-0800
TZNAME:PST
DTSTART:20251102T090000
END:STANDARD
BEGIN:DAYLIGHT
TZOFFSETFROM:-0800
TZOFFSETTO:-0700
TZNAME:PDT
DTSTART:20260308T100000
END:DAYLIGHT
BEGIN:STANDARD
TZOFFSETFROM:-0700
TZOFFSETTO:-0800
TZNAME:PST
DTSTART:20261101T090000
END:STANDARD
BEGIN:DAYLIGHT
TZOFFSETFROM:-0800
TZOFFSETTO:-0700
TZNAME:PDT
DTSTART:20270314T100000
END:DAYLIGHT
BEGIN:STANDARD
TZOFFSETFROM:-0700
TZOFFSETTO:-0800
TZNAME:PST
DTSTART:20271107T090000
END:STANDARD
END:VTIMEZONE
BEGIN:VEVENT
DTSTART;TZID=America/Los_Angeles:20260207T140000
DTEND;TZID=America/Los_Angeles:20260207T160000
DTSTAMP:20260420T030346
CREATED:20260130T213746Z
LAST-MODIFIED:20260130T213807Z
UID:1021-1770472800-1770480000@samscreekcellars.com
SUMMARY:Indoor live music- Shybo!
DESCRIPTION:In light of Super Bowl Sunday\, we’re moving our Sunday music to Saturday that weekend.\n\nJoin us on Saturday\, February 7th\, from 2:00–4:00 PM for an afternoon of wine and live music.  We’re excited to welcome Shybo back for another performance while we pour our award-winning wines. Seating is available on a first-come\, first-served basis.\n\nCome enjoy great music and great wine from the warmth of the tasting room. We look forward to seeing you!
URL:https://samscreekcellars.com/event/indoor-live-music-shybo/
LOCATION:Sams Creek Cellars\, 39 Sams Creek Rd\, Gold Hill\, OR\, 97525\, United States
CATEGORIES:Happenings
ATTACH;FMTTYPE=image/jpeg:https://samscreekcellars.com/wp-content/uploads/2024/05/ShyboBWsmall.jpg
END:VEVENT
END:VCALENDAR