BEGIN:VCALENDAR
VERSION:2.0
PRODID:-//Sams Creek Cellars - ECPv6.15.12.2//NONSGML v1.0//EN
CALSCALE:GREGORIAN
METHOD:PUBLISH
X-ORIGINAL-URL:https://samscreekcellars.com
X-WR-CALDESC:Events for Sams Creek Cellars
REFRESH-INTERVAL;VALUE=DURATION:PT1H
X-Robots-Tag:noindex
X-PUBLISHED-TTL:PT1H
BEGIN:VTIMEZONE
TZID:America/Los_Angeles
BEGIN:DAYLIGHT
TZOFFSETFROM:-0800
TZOFFSETTO:-0700
TZNAME:PDT
DTSTART:20250309T100000
END:DAYLIGHT
BEGIN:STANDARD
TZOFFSETFROM:-0700
TZOFFSETTO:-0800
TZNAME:PST
DTSTART:20251102T090000
END:STANDARD
BEGIN:DAYLIGHT
TZOFFSETFROM:-0800
TZOFFSETTO:-0700
TZNAME:PDT
DTSTART:20260308T100000
END:DAYLIGHT
BEGIN:STANDARD
TZOFFSETFROM:-0700
TZOFFSETTO:-0800
TZNAME:PST
DTSTART:20261101T090000
END:STANDARD
BEGIN:DAYLIGHT
TZOFFSETFROM:-0800
TZOFFSETTO:-0700
TZNAME:PDT
DTSTART:20270314T100000
END:DAYLIGHT
BEGIN:STANDARD
TZOFFSETFROM:-0700
TZOFFSETTO:-0800
TZNAME:PST
DTSTART:20271107T090000
END:STANDARD
END:VTIMEZONE
BEGIN:VEVENT
DTSTART;TZID=America/Los_Angeles:20260502T110000
DTEND;TZID=America/Los_Angeles:20260502T170000
DTSTAMP:20260419T235953
CREATED:20260419T203138Z
LAST-MODIFIED:20260419T212233Z
UID:1087-1777719600-1777741200@samscreekcellars.com
SUMMARY:Special Event: Roam the Rogue
DESCRIPTION:**Our tasting room will be open for regular business during the Roam the Rogue Event.  See event details for Roam the Rogue below** \nCome join us for Roam the Rogue from 11:00am – 5:00pm on Saturday\, May 2nd! \nRoam the Rogue is the perfect way to experience the beauty of the Upper Rogue region in our valley. Take a leisurely self-guided tour through the stunning Upper Rogue wine trail. Enjoy two wines and two deliciously paired appetizers at each of the six participating wineries. \nAll wineries will be pouring their award-winning wines and ticket holders will have access to special pricing for wine purchases during the event. Tickets are $49 each and include a commemorative Roam the Rogue Reidel glass. \nJoin us as the Upper Rogue Valley winemakers showcase their newest wines and share their creative inspiration\, while pairing delicious appetizers with some of the best wines from each winery. \nParticipating wineries include: \n-Sams Creek Cellars\n-The Punch House\n-Cliff Creek Cellars \n-Del Rio Vineyards \n-Bayer Family Estate\n-Kriselle Cellars \nTo purchase tickets or find out more information\, please CLICK HERE. \n 
URL:https://samscreekcellars.com/event/roam-the-rogue/
CATEGORIES:Happenings
ATTACH;FMTTYPE=image/jpeg:https://samscreekcellars.com/wp-content/uploads/2026/04/Facebook-image.jpg
END:VEVENT
END:VCALENDAR