BEGIN:VCALENDAR
VERSION:2.0
PRODID:-//Sams Creek Cellars - ECPv6.15.12.2//NONSGML v1.0//EN
CALSCALE:GREGORIAN
METHOD:PUBLISH
X-ORIGINAL-URL:https://samscreekcellars.com
X-WR-CALDESC:Events for Sams Creek Cellars
REFRESH-INTERVAL;VALUE=DURATION:PT1H
X-Robots-Tag:noindex
X-PUBLISHED-TTL:PT1H
BEGIN:VTIMEZONE
TZID:America/Los_Angeles
BEGIN:DAYLIGHT
TZOFFSETFROM:-0800
TZOFFSETTO:-0700
TZNAME:PDT
DTSTART:20250309T100000
END:DAYLIGHT
BEGIN:STANDARD
TZOFFSETFROM:-0700
TZOFFSETTO:-0800
TZNAME:PST
DTSTART:20251102T090000
END:STANDARD
BEGIN:DAYLIGHT
TZOFFSETFROM:-0800
TZOFFSETTO:-0700
TZNAME:PDT
DTSTART:20260308T100000
END:DAYLIGHT
BEGIN:STANDARD
TZOFFSETFROM:-0700
TZOFFSETTO:-0800
TZNAME:PST
DTSTART:20261101T090000
END:STANDARD
BEGIN:DAYLIGHT
TZOFFSETFROM:-0800
TZOFFSETTO:-0700
TZNAME:PDT
DTSTART:20270314T100000
END:DAYLIGHT
BEGIN:STANDARD
TZOFFSETFROM:-0700
TZOFFSETTO:-0800
TZNAME:PST
DTSTART:20271107T090000
END:STANDARD
END:VTIMEZONE
BEGIN:VEVENT
DTSTART;TZID=America/Los_Angeles:20260329T140000
DTEND;TZID=America/Los_Angeles:20260329T160000
DTSTAMP:20260419T234058
CREATED:20260131T192009Z
LAST-MODIFIED:20260131T192239Z
UID:1031-1774792800-1774800000@samscreekcellars.com
SUMMARY:Live Music Sunday- Jon Galfano & Jen Ambrose
DESCRIPTION:Join us on Sunday\, March 29th\, from 2:00–4:00 PM as we welcome Jon Galfano & Jen Ambrose back to the winery for an afternoon of great wine and live music!\n\nEnjoy our award-winning wines as you relax and take in the music. Seating is available on a first-come\, first-served basis.  Stay warm in the tasting room and enjoy wonderful wine and music. We can’t wait to see you there!
URL:https://samscreekcellars.com/event/live-music-sunday-jon-galfano-jen-ambrose/
LOCATION:Sams Creek Cellars\, 39 Sams Creek Rd\, Gold Hill\, OR\, 97525\, United States
CATEGORIES:Happenings
ATTACH;FMTTYPE=image/jpeg:https://samscreekcellars.com/wp-content/uploads/2025/11/IMG_7581-scaled.jpg
END:VEVENT
END:VCALENDAR